Workbook

Sheet Instructions
B1: Small Business Financial Plan — 5-year monthly projection
B2: From Let's Talk Business Plans (letstalkbusinessplans.com). Free to use for your own business plan or loan request.
B4: Example inputs | C4: These are example inputs for a hypothetical business. They are not industry averages and not a real business. Example — replace with your numbers.
B6: How to use it
B7: Step 1 | C7: Open the Assumptions tab. Change only the yellow cells with blue text. Work from top to bottom.
B8: Step 2 | C8: Enter your revenue lines: what you sell, how many units or customers a month, the price, growth and direct cost %. Then set the ramp-up and seasonality.
B9: Step 3 | C9: Enter the roles you will pay, with start months, and your operating costs from real quotes and your lease.
B10: Step 4 | C10: Enter every startup cost and how you will pay for it (loan, owner equity, investor equity).
B11: Step 5 | C11: Check Startup & Funding: sources must pay for all uses. Then check that every model check on Key Ratios reads OK.
B12: Step 6 | C12: Read P&L, Cash Flow, Balance Sheet, Break-Even and Key Ratios. If the lowest month-end cash goes below zero, you need more working capital.
B13: Step 7 | C13: Test 'what if': lower prices or units, raise costs, change the loan, and watch break-even, DSCR and cash move. Then use Plan Outline to put the numbers into your written plan.
B15: Colour key
B16: 1,000 | C16: Input — yours to change (Assumptions tab only)
B17: 1,000 | C17: Formula — calculated, do not type over
B18: 1,000 | C18: Formula that links to another tab
B20: Tabs
B21: Assumptions | C21: Every input: revenue lines, ramp-up, seasonality, payroll roles, startup costs, operating costs, financing.
B22: Revenue | C22: 60 months of units, prices and sales for up to 5 revenue lines; annual totals at the right.
B23: Direct Costs | C23: Direct cost of each revenue line, gross profit and gross margin.
B24: Payroll | C24: Up to 10 roles from their start months, employer FICA and other payroll costs.
B25: OpEx | C25: Fixed and variable operating expenses, plus the depreciation schedule.
B26: P&L | C26: Monthly and annual profit and loss with margins.
B27: Cash Flow | C27: Monthly cash from opening-day cash; flags months that are SHORT or LOW.
B28: Break-Even | C28: Sales per month and per year needed to break even, on a profit basis and a cash basis.
B29: Startup & Funding | C29: Sources and uses of funds; flags a funding gap; cash at opening.
B30: Loan | C30: Amortization schedule: payment, interest, principal, balance; debt service by year.
B31: Balance Sheet | C31: Assets, liabilities and equity at every month-end, with a balance check.
B32: Key Ratios | C32: Margins, DSCR, cash low points by year, plus nine automatic model checks.
... B34: Sources & Notes | C34: Where the one published rate comes from, where to research your own numbers, and known limitations.
B36: Example results (live) | C36: Year 1 | D36: Year 2 | E36: Year 3
B37: Sales | C37: ='Key Ratios'!$C$5 -> 412230 | D37: ='Key Ratios'!$D$5 -> 511308 | E37: ='Key Ratios'!$E$5 -> 558800.13
B38: Net income | C38: ='Key Ratios'!$C$12 -> 11279.945 | D38: ='Key Ratios'!$D$12 -> 49535.166 | E38: ='Key Ratios'!$E$12 -> 25526.248
B39: DSCR | C39: ='Key Ratios'!$C$15 -> 1.7247231 | D39: ='Key Ratios'!$D$15 -> 3.4738246 | E39: ='Key Ratios'!$E$15 -> 2.2862396
B40: Lowest month-end cash | C40: ='Key Ratios'!$C$18 -> 25060.004 | D40: ='Key Ratios'!$D$18 -> 57042.675 | E40: ='Key Ratios'!$E$18 -> 106504.15
B42: Break-even sales per month, profit basis | C42: ='Break-Even'!$C$20 -> 32879.331 | D42: Year-1 cost levels
B43: Break-even sales per month, cash basis | C43: ='Break-Even'!$D$20 -> 32342.376 | D43: Year-1 cost levels
B44: Funding surplus / (gap) | C44: ='Startup & Funding'!$C$26 -> 0 | D44: ='Startup & Funding'!$D$26 -> Balanced
B45: Model checks | C45: =IF(COUNTIF('Key Ratios'!$C$23:$C$31,"OK")=9,"All 9 OK","Not all OK: see Key Ratios") -> All 9 OK
B47: Important | C47: A planning tool, not tax, legal or lending advice. Results are only as good as the inputs. Built as an .xlsx file using only standard functions. Recalculated and checked in LibreOffice Calc; not yet tested in Microsoft Excel, Google Sheets or other spreadsheet apps.

Sheet Assumptions
B1: Assumptions — the only tab you need to edit
B2: Yellow cells with blue text are inputs. Every other tab is calculated from them. Values shown are example inputs for a hypothetical small business (two service lines and one product line).
B3: Input | C3: means an input cell
B5: 1. General | C5: Value | D5: Unit | I5: Note / source
B6: Business description (label only) | C6: Example inputs (hypothetical small business) | I6: Example — replace with your numbers
B7: First month of operations | C7: 46388 | D7: date | I7: Enter the 1st of your first month of operations. Example — replace with your numbers
B8: Currency label | C8: US dollars ($) | I8: A label only: number formats in this workbook show $. Example — replace with your numbers
B10: 2. Revenue lines (up to 5; leave unused lines at 0)
B11: Units are whatever you sell: jobs, customers on a plan, items. Volume is the full monthly volume in Year 1, before the ramp-up (section 3) and seasonality (section 4).
B12: Revenue line name | C12: Units or customers per month (full volume, Year 1) | D12: Price per unit (Year 1) | E12: Annual unit growth (each year from Year 2) | F12: Annual price increase (each year from Year 2) | G12: Direct cost, % of this line's sales | I12: Note / source
B13: Service line A — projects (example) | C13: 90 | D13: 250 | E13: 0.06 | F13: 0.03 | G13: 0.25 | I13: Example — replace with your numbers
B14: Service line B — monthly plans (example) | C14: 150 | D14: 40 | E14: 0.1 | F14: 0.03 | G14: 0.15 | I14: Example — replace with your numbers
B15: Product line (example) | C15: 350 | D15: 30 | E15: 0.05 | F15: 0.02 | G15: 0.5 | I15: Example — replace with your numbers
B16: Revenue line 4 (not used) | C16: 0 | D16: 0 | E16: 0 | F16: 0 | G16: 0 | I16: Example — replace with your numbers (unused line: leave at 0 or fill in)
B17: Revenue line 5 (not used) | C17: 0 | D17: 0 | E17: 0 | F17: 0 | G17: 0 | I17: Example — replace with your numbers (unused line: leave at 0 or fill in)
B19: 3. Ramp-up (% of full volume in the first six months; all revenue lines) | C19: Value | D19: Unit | I19: Note / source
B20: Month 1 of operations | C20: 0.5 | D20: % | I20: Example — replace with your numbers
B21: Month 2 of operations | C21: 0.6 | D21: % | I21: Example — replace with your numbers
B22: Month 3 of operations | C22: 0.7 | D22: % | I22: Example — replace with your numbers
B23: Month 4 of operations | C23: 0.8 | D23: % | I23: Example — replace with your numbers
B24: Month 5 of operations | C24: 0.9 | D24: % | I24: Example — replace with your numbers
B25: Month 6 of operations | C25: 1 | D25: % | I25: Example — replace with your numbers
B26: Month 7 onward runs at 100% of full volume.
B28: 4. Seasonality (volume by calendar month; 100% = an average month) | C28: Value | D28: Unit | I28: Note / source
B29: January | C29: 0.9 | D29: % | I29: Example — replace with your numbers
B30: February | C30: 0.9 | D30: % | I30: Example — replace with your numbers
B31: March | C31: 1 | D31: % | I31: Example — replace with your numbers
B32: April | C32: 1.05 | D32: % | I32: Example — replace with your numbers
B33: May | C33: 1.1 | D33: % | I33: Example — replace with your numbers
B34: June | C34: 1.1 | D34: % | I34: Example — replace with your numbers
B35: July | C35: 1.05 | D35: % | I35: Example — replace with your numbers
B36: August | C36: 1 | D36: % | I36: Example — replace with your numbers
B37: September | C37: 1 | D37: % | I37: Example — replace with your numbers
B38: October | C38: 1 | D38: % | I38: Example — replace with your numbers
B39: November | C39: 0.95 | D39: % | I39: Example — replace with your numbers
B40: December | C40: 0.95 | D40: % | I40: Example — replace with your numbers
B41: Average of the 12 months (keep near 100%) | C41: =AVERAGE(C29:C40) -> 1 | I41: If this is far from 100%, seasonality is raising or lowering your annual totals.
B43: 5. Payroll (up to 10 roles; leave unused roles at 0)
B44: Salaries are in Year-1 dollars. Each role is paid from its start month; raises apply at the start of each model year (Year 2 onward). Start month 1 = first month of operations, 60 = the last.
B45: Role | C45: Headcount (people or full-time equivalents) | D45: Annual salary per person (Year-1 dollars) | E45: Start month (1-60) | F45: Annual raise | I45: Note / source
...

Sheet Revenue
A1: Revenue — 60 months, rolled up to 5 years
A2: Units = full monthly volume × ramp-up × seasonality × unit growth. Sales = units × price (price rises each year by the line's price increase).
A4: Month # | C4: 1 | D4: 2 | E4: 3 | F4: 4 | G4: 5 | H4: 6 | I4: 7 | J4: 8 | K4: 9 | L4: 10 | M4: 11 | N4: 12 | O4: 13 | P4: 14 | Q4: 15 | R4: 16 | S4: 17 | T4: 18 | U4: 19 | V4: 20 | W4: 21 | X4: 22 | Y4: 23 | Z4: 24 | AA4: 25 | AB4: 26 | AC4: 27 | AD4: 28 | AE4: 29 | AF4: 30 | AG4: 31 | AH4: 32 | AI4: 33 | AJ4: 34 | AK4: 35 | AL4: 36 | AM4: 37 | AN4: 38 | AO4: 39 | AP4: 40 | AQ4: 41 | AR4: 42 | AS4: 43 | AT4: 44 | AU4: 45 | AV4: 46 | AW4: 47 | AX4: 48 | AY4: 49 | AZ4: 50 | BA4: 51 | BB4: 52 | BC4: 53 | BD4: 54 | BE4: 55 | BF4: 56 | BG4: 57 | BH4: 58 | BI4: 59 | BJ4: 60 | BK4: Annual | BL4: Annual | BM4: Annual | BN4: Annual | BO4: Annual
A5: Year | C5: =INT((C4-1)/12)+1 -> 1 | D5: =INT((D4-1)/12)+1 -> 1 | E5: =INT((E4-1)/12)+1 -> 1 | F5: =INT((F4-1)/12)+1 -> 1 | G5: =INT((G4-1)/12)+1 -> 1 | H5: =INT((H4-1)/12)+1 -> 1 | I5: =INT((I4-1)/12)+1 -> 1 | J5: =INT((J4-1)/12)+1 -> 1 | ... BJ5: =INT((BJ4-1)/12)+1 -> 5 | BK5: 1 | BL5: 2 | BM5: 3 | BN5: 4 | BO5: 5
A6: Month | B6: Unit | C6: =EDATE(Assumptions!$C$7,C4-1) -> 46388 | D6: =EDATE(Assumptions!$C$7,D4-1) -> 46419 | E6: =EDATE(Assumptions!$C$7,E4-1) -> 46447 | F6: =EDATE(Assumptions!$C$7,F4-1) -> 46478 | G6: =EDATE(Assumptions!$C$7,G4-1) -> 46508 | H6: =EDATE(Assumptions!$C$7,H4-1) -> 46539 | I6: =EDATE(Assumptions!$C$7,I4-1) -> 46569 | J6: =EDATE(Assumptions!$C$7,J4-1) -> 46600 | ... BJ6: =EDATE(Assumptions!$C$7,BJ4-1) -> 48183 | BK6: Year 1 | BL6: Year 2 | BM6: Year 3 | BN6: Year 4 | BO6: Year 5
A7: Volume drivers (all revenue lines)
A8: Ramp-up factor | C8: =IF(C4<=6,INDEX(Assumptions!$C$20:$C$25,C4),1) -> 0.5 | D8: =IF(D4<=6,INDEX(Assumptions!$C$20:$C$25,D4),1) -> 0.6 | E8: =IF(E4<=6,INDEX(Assumptions!$C$20:$C$25,E4),1) -> 0.7 | F8: =IF(F4<=6,INDEX(Assumptions!$C$20:$C$25,F4),1) -> 0.8 | G8: =IF(G4<=6,INDEX(Assumptions!$C$20:$C$25,G4),1) -> 0.9 | H8: =IF(H4<=6,INDEX(Assumptions!$C$20:$C$25,H4),1) -> 1 | I8: =IF(I4<=6,INDEX(Assumptions!$C$20:$C$25,I4),1) -> 1 | J8: =IF(J4<=6,INDEX(Assumptions!$C$20:$C$25,J4),1) -> 1 | ... BJ8: =IF(BJ4<=6,INDEX(Assumptions!$C$20:$C$25,BJ4),1) -> 1
A9: Seasonality factor | C9: =INDEX(Assumptions!$C$29:$C$40,MONTH(C6)) -> 0.9 | D9: =INDEX(Assumptions!$C$29:$C$40,MONTH(D6)) -> 0.9 | E9: =INDEX(Assumptions!$C$29:$C$40,MONTH(E6)) -> 1 | F9: =INDEX(Assumptions!$C$29:$C$40,MONTH(F6)) -> 1.05 | G9: =INDEX(Assumptions!$C$29:$C$40,MONTH(G6)) -> 1.1 | H9: =INDEX(Assumptions!$C$29:$C$40,MONTH(H6)) -> 1.1 | I9: =INDEX(Assumptions!$C$29:$C$40,MONTH(I6)) -> 1.05 | J9: =INDEX(Assumptions!$C$29:$C$40,MONTH(J6)) -> 1 | ... BJ9: =INDEX(Assumptions!$C$29:$C$40,MONTH(BJ6)) -> 0.95
A11: ="Line 1: "&Assumptions!$B$13 -> Line 1: Service line A — projects (example)
A12: Units or customers | B12: units | C12: =Assumptions!$C$13*C8*C9*(1+Assumptions!$E$13)^(C5-1) -> 40.5 | D12: =Assumptions!$C$13*D8*D9*(1+Assumptions!$E$13)^(D5-1) -> 48.6 | E12: =Assumptions!$C$13*E8*E9*(1+Assumptions!$E$13)^(E5-1) -> 63 | F12: =Assumptions!$C$13*F8*F9*(1+Assumptions!$E$13)^(F5-1) -> 75.6 | G12: =Assumptions!$C$13*G8*G9*(1+Assumptions!$E$13)^(G5-1) -> 89.1 | H12: =Assumptions!$C$13*H8*H9*(1+Assumptions!$E$13)^(H5-1) -> 99 | I12: =Assumptions!$C$13*I8*I9*(1+Assumptions!$E$13)^(I5-1) -> 94.5 | J12: =Assumptions!$C$13*J8*J9*(1+Assumptions!$E$13)^(J5-1) -> 90 | ... BJ12: =Assumptions!$C$13*BJ8*BJ9*(1+Assumptions!$E$13)^(BJ5-1) -> 107.94178 | BK12: =SUMIF($C$5:$BJ$5,BK$5,$C12:$BJ12) -> 951.3 | BL12: =SUMIF($C$5:$BJ$5,BL$5,$C12:$BJ12) -> 1144.8 | BM12: =SUMIF($C$5:$BJ$5,BM$5,$C12:$BJ12) -> 1213.488 | BN12: =SUMIF($C$5:$BJ$5,BN$5,$C12:$BJ12) -> 1286.2973 | BO12: =SUMIF($C$5:$BJ$5,BO$5,$C12:$BJ12) -> 1363.4751
A13: Price per unit | B13: $/unit | C13: =Assumptions!$D$13*(1+Assumptions!$F$13)^(C5-1) -> 250 | D13: =Assumptions!$D$13*(1+Assumptions!$F$13)^(D5-1) -> 250 | E13: =Assumptions!$D$13*(1+Assumptions!$F$13)^(E5-1) -> 250 | F13: =Assumptions!$D$13*(1+Assumptions!$F$13)^(F5-1) -> 250 | G13: =Assumptions!$D$13*(1+Assumptions!$F$13)^(G5-1) -> 250 | H13: =Assumptions!$D$13*(1+Assumptions!$F$13)^(H5-1) -> 250 | I13: =Assumptions!$D$13*(1+Assumptions!$F$13)^(I5-1) -> 250 | J13: =Assumptions!$D$13*(1+Assumptions!$F$13)^(J5-1) -> 250 | ... BJ13: =Assumptions!$D$13*(1+Assumptions!$F$13)^(BJ5-1) -> 281.3772 | BK13: =IF(BK12=0,0,BK14/BK12) -> 250 | BL13: =IF(BL12=0,0,BL14/BL12) -> 257.5 | BM13: =IF(BM12=0,0,BM14/BM12) -> 265.225 | BN13: =IF(BN12=0,0,BN14/BN12) -> 273.18175 | BO13: =IF(BO12=0,0,BO14/BO12) -> 281.3772
A14: Sales | C14: =C12*C13 -> 10125 | D14: =D12*D13 -> 12150 | E14: =E12*E13 -> 15750 | F14: =F12*F13 -> 18900 | G14: =G12*G13 -> 22275 | H14: =H12*H13 -> 24750 | I14: =I12*I13 -> 23625 | J14: =J12*J13 -> 22500 | ... BJ14: =BJ12*BJ13 -> 30372.356 | BK14: =SUMIF($C$5:$BJ$5,BK$5,$C14:$BJ14) -> 237825 | BL14: =SUMIF($C$5:$BJ$5,BL$5,$C14:$BJ14) -> 294786 | BM14: =SUMIF($C$5:$BJ$5,BM$5,$C14:$BJ14) -> 321847.35 | BN14: =SUMIF($C$5:$BJ$5,BN$5,$C14:$BJ14) -> 351392.94 | BO14: =SUMIF($C$5:$BJ$5,BO$5,$C14:$BJ14) -> 383650.81
A15: ="Line 2: "&Assumptions!$B$14 -> Line 2: Service line B — monthly plans (example)
A16: Units or customers | B16: units | C16: =Assumptions!$C$14*C8*C9*(1+Assumptions!$E$14)^(C5-1) -> 67.5 | D16: =Assumptions!$C$14*D8*D9*(1+Assumptions!$E$14)^(D5-1) -> 81 | E16: =Assumptions!$C$14*E8*E9*(1+Assumptions!$E$14)^(E5-1) -> 105 | F16: =Assumptions!$C$14*F8*F9*(1+Assumptions!$E$14)^(F5-1) -> 126 | G16: =Assumptions!$C$14*G8*G9*(1+Assumptions!$E$14)^(G5-1) -> 148.5 | H16: =Assumptions!$C$14*H8*H9*(1+Assumptions!$E$14)^(H5-1) -> 165 | I16: =Assumptions!$C$14*I8*I9*(1+Assumptions!$E$14)^(I5-1) -> 157.5 | J16: =Assumptions!$C$14*J8*J9*(1+Assumptions!$E$14)^(J5-1) -> 150 | ... BJ16: =Assumptions!$C$14*BJ8*BJ9*(1+Assumptions!$E$14)^(BJ5-1) -> 208.63425 | BK16: =SUMIF($C$5:$BJ$5,BK$5,$C16:$BJ16) -> 1585.5 | BL16: =SUMIF($C$5:$BJ$5,BL$5,$C16:$BJ16) -> 1980 | BM16: =SUMIF($C$5:$BJ$5,BM$5,$C16:$BJ16) -> 2178 | BN16: =SUMIF($C$5:$BJ$5,BN$5,$C16:$BJ16) -> 2395.8 | BO16: =SUMIF($C$5:$BJ$5,BO$5,$C16:$BJ16) -> 2635.38
A17: Price per unit | B17: $/unit | C17: =Assumptions!$D$14*(1+Assumptions!$F$14)^(C5-1) -> 40 | D17: =Assumptions!$D$14*(1+Assumptions!$F$14)^(D5-1) -> 40 | E17: =Assumptions!$D$14*(1+Assumptions!$F$14)^(E5-1) -> 40 | F17: =Assumptions!$D$14*(1+Assumptions!$F$14)^(F5-1) -> 40 | G17: =Assumptions!$D$14*(1+Assumptions!$F$14)^(G5-1) -> 40 | H17: =Assumptions!$D$14*(1+Assumptions!$F$14)^(H5-1) -> 40 | I17: =Assumptions!$D$14*(1+Assumptions!$F$14)^(I5-1) -> 40 | J17: =Assumptions!$D$14*(1+Assumptions!$F$14)^(J5-1) -> 40 | ... BJ17: =Assumptions!$D$14*(1+Assumptions!$F$14)^(BJ5-1) -> 45.020352 | BK17: =IF(BK16=0,0,BK18/BK16) -> 40 | BL17: =IF(BL16=0,0,BL18/BL16) -> 41.2 | BM17: =IF(BM16=0,0,BM18/BM16) -> 42.436 | BN17: =IF(BN16=0,0,BN18/BN16) -> 43.70908 | BO17: =IF(BO16=0,0,BO18/BO16) -> 45.020352
A18: Sales | C18: =C16*C17 -> 2700 | D18: =D16*D17 -> 3240 | E18: =E16*E17 -> 4200 | F18: =F16*F17 -> 5040 | G18: =G16*G17 -> 5940 | H18: =H16*H17 -> 6600 | I18: =I16*I17 -> 6300 | J18: =J16*J17 -> 6000 | ... BJ18: =BJ16*BJ17 -> 9392.7875 | BK18: =SUMIF($C$5:$BJ$5,BK$5,$C18:$BJ18) -> 63420 | BL18: =SUMIF($C$5:$BJ$5,BL$5,$C18:$BJ18) -> 81576 | BM18: =SUMIF($C$5:$BJ$5,BM$5,$C18:$BJ18) -> 92425.608 | BN18: =SUMIF($C$5:$BJ$5,BN$5,$C18:$BJ18) -> 104718.21 | BO18: =SUMIF($C$5:$BJ$5,BO$5,$C18:$BJ18) -> 118645.74
A19: ="Line 3: "&Assumptions!$B$15 -> Line 3: Product line (example)
A20: Units or customers | B20: units | C20: =Assumptions!$C$15*C8*C9*(1+Assumptions!$E$15)^(C5-1) -> 157.5 | D20: =Assumptions!$C$15*D8*D9*(1+Assumptions!$E$15)^(D5-1) -> 189 | E20: =Assumptions!$C$15*E8*E9*(1+Assumptions!$E$15)^(E5-1) -> 245 | F20: =Assumptions!$C$15*F8*F9*(1+Assumptions!$E$15)^(F5-1) -> 294 | G20: =Assumptions!$C$15*G8*G9*(1+Assumptions!$E$15)^(G5-1) -> 346.5 | H20: =Assumptions!$C$15*H8*H9*(1+Assumptions!$E$15)^(H5-1) -> 385 | I20: =Assumptions!$C$15*I8*I9*(1+Assumptions!$E$15)^(I5-1) -> 367.5 | J20: =Assumptions!$C$15*J8*J9*(1+Assumptions!$E$15)^(J5-1) -> 350 | ... BJ20: =Assumptions!$C$15*BJ8*BJ9*(1+Assumptions!$E$15)^(BJ5-1) -> 404.15583 | BK20: =SUMIF($C$5:$BJ$5,BK$5,$C20:$BJ20) -> 3699.5 | BL20: =SUMIF($C$5:$BJ$5,BL$5,$C20:$BJ20) -> 4410 | BM20: =SUMIF($C$5:$BJ$5,BM$5,$C20:$BJ20) -> 4630.5 | BN20: =SUMIF($C$5:$BJ$5,BN$5,$C20:$BJ20) -> 4862.025 | BO20: =SUMIF($C$5:$BJ$5,BO$5,$C20:$BJ20) -> 5105.1263
A21: Price per unit | B21: $/unit | C21: =Assumptions!$D$15*(1+Assumptions!$F$15)^(C5-1) -> 30 | D21: =Assumptions!$D$15*(1+Assumptions!$F$15)^(D5-1) -> 30 | E21: =Assumptions!$D$15*(1+Assumptions!$F$15)^(E5-1) -> 30 | F21: =Assumptions!$D$15*(1+Assumptions!$F$15)^(F5-1) -> 30 | G21: =Assumptions!$D$15*(1+Assumptions!$F$15)^(G5-1) -> 30 | H21: =Assumptions!$D$15*(1+Assumptions!$F$15)^(H5-1) -> 30 | I21: =Assumptions!$D$15*(1+Assumptions!$F$15)^(I5-1) -> 30 | J21: =Assumptions!$D$15*(1+Assumptions!$F$15)^(J5-1) -> 30 | ... BJ21: =Assumptions!$D$15*(1+Assumptions!$F$15)^(BJ5-1) -> 32.472965 | BK21: =IF(BK20=0,0,BK22/BK20) -> 30 | BL21: =IF(BL20=0,0,BL22/BL20) -> 30.6 | BM21: =IF(BM20=0,0,BM22/BM20) -> 31.212 | BN21: =IF(BN20=0,0,BN22/BN20) -> 31.83624 | BO21: =IF(BO20=0,0,BO22/BO20) -> 32.472965
A22: Sales | C22: =C20*C21 -> 4725 | D22: =D20*D21 -> 5670 | E22: =E20*E21 -> 7350 | F22: =F20*F21 -> 8820 | G22: =G20*G21 -> 10395 | H22: =H20*H21 -> 11550 | I22: =I20*I21 -> 11025 | J22: =J20*J21 -> 10500 | ... BJ22: =BJ20*BJ21 -> 13124.138 | BK22: =SUMIF($C$5:$BJ$5,BK$5,$C22:$BJ22) -> 110985 | BL22: =SUMIF($C$5:$BJ$5,BL$5,$C22:$BJ22) -> 134946 | BM22: =SUMIF($C$5:$BJ$5,BM$5,$C22:$BJ22) -> 144527.17 | BN22: =SUMIF($C$5:$BJ$5,BN$5,$C22:$BJ22) -> 154788.59 | BO22: =SUMIF($C$5:$BJ$5,BO$5,$C22:$BJ22) -> 165778.59
A23: ="Line 4: "&Assumptions!$B$16 -> Line 4: Revenue line 4 (not used)
A24: Units or customers | B24: units | C24: =Assumptions!$C$16*C8*C9*(1+Assumptions!$E$16)^(C5-1) -> 0 | D24: =Assumptions!$C$16*D8*D9*(1+Assumptions!$E$16)^(D5-1) -> 0 | E24: =Assumptions!$C$16*E8*E9*(1+Assumptions!$E$16)^(E5-1) -> 0 | F24: =Assumptions!$C$16*F8*F9*(1+Assumptions!$E$16)^(F5-1) -> 0 | G24: =Assumptions!$C$16*G8*G9*(1+Assumptions!$E$16)^(G5-1) -> 0 | H24: =Assumptions!$C$16*H8*H9*(1+Assumptions!$E$16)^(H5-1) -> 0 | I24: =Assumptions!$C$16*I8*I9*(1+Assumptions!$E$16)^(I5-1) -> 0 | J24: =Assumptions!$C$16*J8*J9*(1+Assumptions!$E$16)^(J5-1) -> 0 | ... BJ24: =Assumptions!$C$16*BJ8*BJ9*(1+Assumptions!$E$16)^(BJ5-1) -> 0 | BK24: =SUMIF($C$5:$BJ$5,BK$5,$C24:$BJ24) -> 0 | BL24: =SUMIF($C$5:$BJ$5,BL$5,$C24:$BJ24) -> 0 | BM24: =SUMIF($C$5:$BJ$5,BM$5,$C24:$BJ24) -> 0 | BN24: =SUMIF($C$5:$BJ$5,BN$5,$C24:$BJ24) -> 0 | BO24: =SUMIF($C$5:$BJ$5,BO$5,$C24:$BJ24) -> 0
A25: Price per unit | B25: $/unit | C25: =Assumptions!$D$16*(1+Assumptions!$F$16)^(C5-1) -> 0 | D25: =Assumptions!$D$16*(1+Assumptions!$F$16)^(D5-1) -> 0 | E25: =Assumptions!$D$16*(1+Assumptions!$F$16)^(E5-1) -> 0 | F25: =Assumptions!$D$16*(1+Assumptions!$F$16)^(F5-1) -> 0 | G25: =Assumptions!$D$16*(1+Assumptions!$F$16)^(G5-1) -> 0 | H25: =Assumptions!$D$16*(1+Assumptions!$F$16)^(H5-1) -> 0 | I25: =Assumptions!$D$16*(1+Assumptions!$F$16)^(I5-1) -> 0 | J25: =Assumptions!$D$16*(1+Assumptions!$F$16)^(J5-1) -> 0 | ... BJ25: =Assumptions!$D$16*(1+Assumptions!$F$16)^(BJ5-1) -> 0 | BK25: =IF(BK24=0,0,BK26/BK24) -> 0 | BL25: =IF(BL24=0,0,BL26/BL24) -> 0 | BM25: =IF(BM24=0,0,BM26/BM24) -> 0 | BN25: =IF(BN24=0,0,BN26/BN24) -> 0 | BO25: =IF(BO24=0,0,BO26/BO24) -> 0
A26: Sales | C26: =C24*C25 -> 0 | D26: =D24*D25 -> 0 | E26: =E24*E25 -> 0 | F26: =F24*F25 -> 0 | G26: =G24*G25 -> 0 | H26: =H24*H25 -> 0 | I26: =I24*I25 -> 0 | J26: =J24*J25 -> 0 | ... BJ26: =BJ24*BJ25 -> 0 | BK26: =SUMIF($C$5:$BJ$5,BK$5,$C26:$BJ26) -> 0 | BL26: =SUMIF($C$5:$BJ$5,BL$5,$C26:$BJ26) -> 0 | BM26: =SUMIF($C$5:$BJ$5,BM$5,$C26:$BJ26) -> 0 | BN26: =SUMIF($C$5:$BJ$5,BN$5,$C26:$BJ26) -> 0 | BO26: =SUMIF($C$5:$BJ$5,BO$5,$C26:$BJ26) -> 0
A27: ="Line 5: "&Assumptions!$B$17 -> Line 5: Revenue line 5 (not used)
A28: Units or customers | B28: units | C28: =Assumptions!$C$17*C8*C9*(1+Assumptions!$E$17)^(C5-1) -> 0 | D28: =Assumptions!$C$17*D8*D9*(1+Assumptions!$E$17)^(D5-1) -> 0 | E28: =Assumptions!$C$17*E8*E9*(1+Assumptions!$E$17)^(E5-1) -> 0 | F28: =Assumptions!$C$17*F8*F9*(1+Assumptions!$E$17)^(F5-1) -> 0 | G28: =Assumptions!$C$17*G8*G9*(1+Assumptions!$E$17)^(G5-1) -> 0 | H28: =Assumptions!$C$17*H8*H9*(1+Assumptions!$E$17)^(H5-1) -> 0 | I28: =Assumptions!$C$17*I8*I9*(1+Assumptions!$E$17)^(I5-1) -> 0 | J28: =Assumptions!$C$17*J8*J9*(1+Assumptions!$E$17)^(J5-1) -> 0 | ... BJ28: =Assumptions!$C$17*BJ8*BJ9*(1+Assumptions!$E$17)^(BJ5-1) -> 0 | BK28: =SUMIF($C$5:$BJ$5,BK$5,$C28:$BJ28) -> 0 | BL28: =SUMIF($C$5:$BJ$5,BL$5,$C28:$BJ28) -> 0 | BM28: =SUMIF($C$5:$BJ$5,BM$5,$C28:$BJ28) -> 0 | BN28: =SUMIF($C$5:$BJ$5,BN$5,$C28:$BJ28) -> 0 | BO28: =SUMIF($C$5:$BJ$5,BO$5,$C28:$BJ28) -> 0
A29: Price per unit | B29: $/unit | C29: =Assumptions!$D$17*(1+Assumptions!$F$17)^(C5-1) -> 0 | D29: =Assumptions!$D$17*(1+Assumptions!$F$17)^(D5-1) -> 0 | E29: =Assumptions!$D$17*(1+Assumptions!$F$17)^(E5-1) -> 0 | F29: =Assumptions!$D$17*(1+Assumptions!$F$17)^(F5-1) -> 0 | G29: =Assumptions!$D$17*(1+Assumptions!$F$17)^(G5-1) -> 0 | H29: =Assumptions!$D$17*(1+Assumptions!$F$17)^(H5-1) -> 0 | I29: =Assumptions!$D$17*(1+Assumptions!$F$17)^(I5-1) -> 0 | J29: =Assumptions!$D$17*(1+Assumptions!$F$17)^(J5-1) -> 0 | ... BJ29: =Assumptions!$D$17*(1+Assumptions!$F$17)^(BJ5-1) -> 0 | BK29: =IF(BK28=0,0,BK30/BK28) -> 0 | BL29: =IF(BL28=0,0,BL30/BL28) -> 0 | BM29: =IF(BM28=0,0,BM30/BM28) -> 0 | BN29: =IF(BN28=0,0,BN30/BN28) -> 0 | BO29: =IF(BO28=0,0,BO30/BO28) -> 0
A30: Sales | C30: =C28*C29 -> 0 | D30: =D28*D29 -> 0 | E30: =E28*E29 -> 0 | F30: =F28*F29 -> 0 | G30: =G28*G29 -> 0 | H30: =H28*H29 -> 0 | I30: =I28*I29 -> 0 | J30: =J28*J29 -> 0 | ... BJ30: =BJ28*BJ29 -> 0 | BK30: =SUMIF($C$5:$BJ$5,BK$5,$C30:$BJ30) -> 0 | BL30: =SUMIF($C$5:$BJ$5,BL$5,$C30:$BJ30) -> 0 | BM30: =SUMIF($C$5:$BJ$5,BM$5,$C30:$BJ30) -> 0 | BN30: =SUMIF($C$5:$BJ$5,BN$5,$C30:$BJ30) -> 0 | BO30: =SUMIF($C$5:$BJ$5,BO$5,$C30:$BJ30) -> 0
A32: TOTAL SALES | C32: =C14+C18+C22+C26+C30 -> 17550 | D32: =D14+D18+D22+D26+D30 -> 21060 | E32: =E14+E18+E22+E26+E30 -> 27300 | F32: =F14+F18+F22+F26+F30 -> 32760 | G32: =G14+G18+G22+G26+G30 -> 38610 | H32: =H14+H18+H22+H26+H30 -> 42900 | I32: =I14+I18+I22+I26+I30 -> 40950 | J32: =J14+J18+J22+J26+J30 -> 39000 | ... BJ32: =BJ14+BJ18+BJ22+BJ26+BJ30 -> 52889.282 | BK32: =SUMIF($C$5:$BJ$5,BK$5,$C32:$BJ32) -> 412230 | BL32: =SUMIF($C$5:$BJ$5,BL$5,$C32:$BJ32) -> 511308 | BM32: =SUMIF($C$5:$BJ$5,BM$5,$C32:$BJ32) -> 558800.13 | BN32: =SUMIF($C$5:$BJ$5,BN$5,$C32:$BJ32) -> 610899.75 | BO32: =SUMIF($C$5:$BJ$5,BO$5,$C32:$BJ32) -> 668075.14
A33: Sales growth vs the same month a year earlier | C33: =IF(C4<=12,0,IF(INDEX($C32:$BJ32,C4-12)=0,0,C32/INDEX($C32:$BJ32,C4-12)-1)) -> 0 | D33: =IF(D4<=12,0,IF(INDEX($C32:$BJ32,D4-12)=0,0,D32/INDEX($C32:$BJ32,D4-12)-1)) -> 0 | E33: =IF(E4<=12,0,IF(INDEX($C32:$BJ32,E4-12)=0,0,E32/INDEX($C32:$BJ32,E4-12)-1)) -> 0 | F33: =IF(F4<=12,0,IF(INDEX($C32:$BJ32,F4-12)=0,0,F32/INDEX($C32:$BJ32,F4-12)-1)) -> 0 | G33: =IF(G4<=12,0,IF(INDEX($C32:$BJ32,G4-12)=0,0,G32/INDEX($C32:$BJ32,G4-12)-1)) -> 0 | H33: =IF(H4<=12,0,IF(INDEX($C32:$BJ32,H4-12)=0,0,H32/INDEX($C32:$BJ32,H4-12)-1)) -> 0 | I33: =IF(I4<=12,0,IF(INDEX($C32:$BJ32,I4-12)=0,0,I32/INDEX($C32:$BJ32,I4-12)-1)) -> 0 | J33: =IF(J4<=12,0,IF(INDEX($C32:$BJ32,J4-12)=0,0,J32/INDEX($C32:$BJ32,J4-12)-1)) -> 0 | ... BJ33: =IF(BJ4<=12,0,IF(INDEX($C32:$BJ32,BJ4-12)=0,0,BJ32/INDEX($C32:$BJ32,BJ4-12)-1)) -> 0.093592091

Sheet Direct Costs
A1: Direct costs and gross profit
A2: Direct cost of each revenue line = that line's sales × its direct-cost % (Assumptions section 2).
A4: Month # | C4: 1 | D4: 2 | E4: 3 | F4: 4 | G4: 5 | H4: 6 | I4: 7 | J4: 8 | K4: 9 | L4: 10 | M4: 11 | N4: 12 | O4: 13 | P4: 14 | Q4: 15 | R4: 16 | S4: 17 | T4: 18 | U4: 19 | V4: 20 | W4: 21 | X4: 22 | Y4: 23 | Z4: 24 | AA4: 25 | AB4: 26 | AC4: 27 | AD4: 28 | AE4: 29 | AF4: 30 | AG4: 31 | AH4: 32 | AI4: 33 | AJ4: 34 | AK4: 35 | AL4: 36 | AM4: 37 | AN4: 38 | AO4: 39 | AP4: 40 | AQ4: 41 | AR4: 42 | AS4: 43 | AT4: 44 | AU4: 45 | AV4: 46 | AW4: 47 | AX4: 48 | AY4: 49 | AZ4: 50 | BA4: 51 | BB4: 52 | BC4: 53 | BD4: 54 | BE4: 55 | BF4: 56 | BG4: 57 | BH4: 58 | BI4: 59 | BJ4: 60 | BK4: Annual | BL4: Annual | BM4: Annual | BN4: Annual | BO4: Annual
A5: Year | C5: =INT((C4-1)/12)+1 -> 1 | D5: =INT((D4-1)/12)+1 -> 1 | E5: =INT((E4-1)/12)+1 -> 1 | F5: =INT((F4-1)/12)+1 -> 1 | G5: =INT((G4-1)/12)+1 -> 1 | H5: =INT((H4-1)/12)+1 -> 1 | I5: =INT((I4-1)/12)+1 -> 1 | J5: =INT((J4-1)/12)+1 -> 1 | ... BJ5: =INT((BJ4-1)/12)+1 -> 5 | BK5: 1 | BL5: 2 | BM5: 3 | BN5: 4 | BO5: 5
A6: Month | B6: Unit | C6: =EDATE(Assumptions!$C$7,C4-1) -> 46388 | D6: =EDATE(Assumptions!$C$7,D4-1) -> 46419 | E6: =EDATE(Assumptions!$C$7,E4-1) -> 46447 | F6: =EDATE(Assumptions!$C$7,F4-1) -> 46478 | G6: =EDATE(Assumptions!$C$7,G4-1) -> 46508 | H6: =EDATE(Assumptions!$C$7,H4-1) -> 46539 | I6: =EDATE(Assumptions!$C$7,I4-1) -> 46569 | J6: =EDATE(Assumptions!$C$7,J4-1) -> 46600 | ... BJ6: =EDATE(Assumptions!$C$7,BJ4-1) -> 48183 | BK6: Year 1 | BL6: Year 2 | BM6: Year 3 | BN6: Year 4 | BO6: Year 5
A7: ="Line 1 direct costs: "&Assumptions!$B$13 -> Line 1 direct costs: Service line A — projects (example) | C7: =Revenue!C14*Assumptions!$G$13 -> 2531.25 | D7: =Revenue!D14*Assumptions!$G$13 -> 3037.5 | E7: =Revenue!E14*Assumptions!$G$13 -> 3937.5 | F7: =Revenue!F14*Assumptions!$G$13 -> 4725 | G7: =Revenue!G14*Assumptions!$G$13 -> 5568.75 | H7: =Revenue!H14*Assumptions!$G$13 -> 6187.5 | I7: =Revenue!I14*Assumptions!$G$13 -> 5906.25 | J7: =Revenue!J14*Assumptions!$G$13 -> 5625 | ... BJ7: =Revenue!BJ14*Assumptions!$G$13 -> 7593.089 | BK7: =SUMIF($C$5:$BJ$5,BK$5,$C7:$BJ7) -> 59456.25 | BL7: =SUMIF($C$5:$BJ$5,BL$5,$C7:$BJ7) -> 73696.5 | BM7: =SUMIF($C$5:$BJ$5,BM$5,$C7:$BJ7) -> 80461.839 | BN7: =SUMIF($C$5:$BJ$5,BN$5,$C7:$BJ7) -> 87848.235 | BO7: =SUMIF($C$5:$BJ$5,BO$5,$C7:$BJ7) -> 95912.704
A8: ="Line 2 direct costs: "&Assumptions!$B$14 -> Line 2 direct costs: Service line B — monthly plans (example) | C8: =Revenue!C18*Assumptions!$G$14 -> 405 | D8: =Revenue!D18*Assumptions!$G$14 -> 486 | E8: =Revenue!E18*Assumptions!$G$14 -> 630 | F8: =Revenue!F18*Assumptions!$G$14 -> 756 | G8: =Revenue!G18*Assumptions!$G$14 -> 891 | H8: =Revenue!H18*Assumptions!$G$14 -> 990 | I8: =Revenue!I18*Assumptions!$G$14 -> 945 | J8: =Revenue!J18*Assumptions!$G$14 -> 900 | ... BJ8: =Revenue!BJ18*Assumptions!$G$14 -> 1408.9181 | BK8: =SUMIF($C$5:$BJ$5,BK$5,$C8:$BJ8) -> 9513 | BL8: =SUMIF($C$5:$BJ$5,BL$5,$C8:$BJ8) -> 12236.4 | BM8: =SUMIF($C$5:$BJ$5,BM$5,$C8:$BJ8) -> 13863.841 | BN8: =SUMIF($C$5:$BJ$5,BN$5,$C8:$BJ8) -> 15707.732 | BO8: =SUMIF($C$5:$BJ$5,BO$5,$C8:$BJ8) -> 17796.86
A9: ="Line 3 direct costs: "&Assumptions!$B$15 -> Line 3 direct costs: Product line (example) | C9: =Revenue!C22*Assumptions!$G$15 -> 2362.5 | D9: =Revenue!D22*Assumptions!$G$15 -> 2835 | E9: =Revenue!E22*Assumptions!$G$15 -> 3675 | F9: =Revenue!F22*Assumptions!$G$15 -> 4410 | G9: =Revenue!G22*Assumptions!$G$15 -> 5197.5 | H9: =Revenue!H22*Assumptions!$G$15 -> 5775 | I9: =Revenue!I22*Assumptions!$G$15 -> 5512.5 | J9: =Revenue!J22*Assumptions!$G$15 -> 5250 | ... BJ9: =Revenue!BJ22*Assumptions!$G$15 -> 6562.069 | BK9: =SUMIF($C$5:$BJ$5,BK$5,$C9:$BJ9) -> 55492.5 | BL9: =SUMIF($C$5:$BJ$5,BL$5,$C9:$BJ9) -> 67473 | BM9: =SUMIF($C$5:$BJ$5,BM$5,$C9:$BJ9) -> 72263.583 | BN9: =SUMIF($C$5:$BJ$5,BN$5,$C9:$BJ9) -> 77394.297 | BO9: =SUMIF($C$5:$BJ$5,BO$5,$C9:$BJ9) -> 82889.293
A10: ="Line 4 direct costs: "&Assumptions!$B$16 -> Line 4 direct costs: Revenue line 4 (not used) | C10: =Revenue!C26*Assumptions!$G$16 -> 0 | D10: =Revenue!D26*Assumptions!$G$16 -> 0 | E10: =Revenue!E26*Assumptions!$G$16 -> 0 | F10: =Revenue!F26*Assumptions!$G$16 -> 0 | G10: =Revenue!G26*Assumptions!$G$16 -> 0 | H10: =Revenue!H26*Assumptions!$G$16 -> 0 | I10: =Revenue!I26*Assumptions!$G$16 -> 0 | J10: =Revenue!J26*Assumptions!$G$16 -> 0 | ... BJ10: =Revenue!BJ26*Assumptions!$G$16 -> 0 | BK10: =SUMIF($C$5:$BJ$5,BK$5,$C10:$BJ10) -> 0 | BL10: =SUMIF($C$5:$BJ$5,BL$5,$C10:$BJ10) -> 0 | BM10: =SUMIF($C$5:$BJ$5,BM$5,$C10:$BJ10) -> 0 | BN10: =SUMIF($C$5:$BJ$5,BN$5,$C10:$BJ10) -> 0 | BO10: =SUMIF($C$5:$BJ$5,BO$5,$C10:$BJ10) -> 0
A11: ="Line 5 direct costs: "&Assumptions!$B$17 -> Line 5 direct costs: Revenue line 5 (not used) | C11: =Revenue!C30*Assumptions!$G$17 -> 0 | D11: =Revenue!D30*Assumptions!$G$17 -> 0 | E11: =Revenue!E30*Assumptions!$G$17 -> 0 | F11: =Revenue!F30*Assumptions!$G$17 -> 0 | G11: =Revenue!G30*Assumptions!$G$17 -> 0 | H11: =Revenue!H30*Assumptions!$G$17 -> 0 | I11: =Revenue!I30*Assumptions!$G$17 -> 0 | J11: =Revenue!J30*Assumptions!$G$17 -> 0 | ... BJ11: =Revenue!BJ30*Assumptions!$G$17 -> 0 | BK11: =SUMIF($C$5:$BJ$5,BK$5,$C11:$BJ11) -> 0 | BL11: =SUMIF($C$5:$BJ$5,BL$5,$C11:$BJ11) -> 0 | BM11: =SUMIF($C$5:$BJ$5,BM$5,$C11:$BJ11) -> 0 | BN11: =SUMIF($C$5:$BJ$5,BN$5,$C11:$BJ11) -> 0 | BO11: =SUMIF($C$5:$BJ$5,BO$5,$C11:$BJ11) -> 0
A12: TOTAL DIRECT COSTS | C12: =C7+C8+C9+C10+C11 -> 5298.75 | D12: =D7+D8+D9+D10+D11 -> 6358.5 | E12: =E7+E8+E9+E10+E11 -> 8242.5 | F12: =F7+F8+F9+F10+F11 -> 9891 | G12: =G7+G8+G9+G10+G11 -> 11657.25 | H12: =H7+H8+H9+H10+H11 -> 12952.5 | I12: =I7+I8+I9+I10+I11 -> 12363.75 | J12: =J7+J8+J9+J10+J11 -> 11775 | ... BJ12: =BJ7+BJ8+BJ9+BJ10+BJ11 -> 15564.076 | BK12: =SUMIF($C$5:$BJ$5,BK$5,$C12:$BJ12) -> 124461.75 | BL12: =SUMIF($C$5:$BJ$5,BL$5,$C12:$BJ12) -> 153405.9 | BM12: =SUMIF($C$5:$BJ$5,BM$5,$C12:$BJ12) -> 166589.26 | BN12: =SUMIF($C$5:$BJ$5,BN$5,$C12:$BJ12) -> 180950.26 | BO12: =SUMIF($C$5:$BJ$5,BO$5,$C12:$BJ12) -> 196598.86
A14: Total sales (from Revenue) | C14: =Revenue!C32 -> 17550 | D14: =Revenue!D32 -> 21060 | E14: =Revenue!E32 -> 27300 | F14: =Revenue!F32 -> 32760 | G14: =Revenue!G32 -> 38610 | H14: =Revenue!H32 -> 42900 | I14: =Revenue!I32 -> 40950 | J14: =Revenue!J32 -> 39000 | ... BJ14: =Revenue!BJ32 -> 52889.282 | BK14: =SUMIF($C$5:$BJ$5,BK$5,$C14:$BJ14) -> 412230 | BL14: =SUMIF($C$5:$BJ$5,BL$5,$C14:$BJ14) -> 511308 | BM14: =SUMIF($C$5:$BJ$5,BM$5,$C14:$BJ14) -> 558800.13 | BN14: =SUMIF($C$5:$BJ$5,BN$5,$C14:$BJ14) -> 610899.75 | BO14: =SUMIF($C$5:$BJ$5,BO$5,$C14:$BJ14) -> 668075.14
A15: GROSS PROFIT | C15: =C14-C12 -> 12251.25 | D15: =D14-D12 -> 14701.5 | E15: =E14-E12 -> 19057.5 | F15: =F14-F12 -> 22869 | G15: =G14-G12 -> 26952.75 | H15: =H14-H12 -> 29947.5 | I15: =I14-I12 -> 28586.25 | J15: =J14-J12 -> 27225 | ... BJ15: =BJ14-BJ12 -> 37325.205 | BK15: =SUMIF($C$5:$BJ$5,BK$5,$C15:$BJ15) -> 287768.25 | BL15: =SUMIF($C$5:$BJ$5,BL$5,$C15:$BJ15) -> 357902.1 | BM15: =SUMIF($C$5:$BJ$5,BM$5,$C15:$BJ15) -> 392210.87 | BN15: =SUMIF($C$5:$BJ$5,BN$5,$C15:$BJ15) -> 429949.49 | BO15: =SUMIF($C$5:$BJ$5,BO$5,$C15:$BJ15) -> 471476.28
A16: Gross margin (gross profit ÷ sales) | C16: =IF(C14=0,0,C15/C14) -> 0.69807692 | D16: =IF(D14=0,0,D15/D14) -> 0.69807692 | E16: =IF(E14=0,0,E15/E14) -> 0.69807692 | F16: =IF(F14=0,0,F15/F14) -> 0.69807692 | G16: =IF(G14=0,0,G15/G14) -> 0.69807692 | H16: =IF(H14=0,0,H15/H14) -> 0.69807692 | I16: =IF(I14=0,0,I15/I14) -> 0.69807692 | J16: =IF(J14=0,0,J15/J14) -> 0.69807692 | ... BO16: =IF(BO14=0,0,BO15/BO14) -> 0.70572343

Sheet Payroll
A1: Payroll
A2: Each role: headcount × annual salary ÷ 12 from its start month, raised at the start of each model year. Employer FICA and other payroll costs are added on top.
A4: Month # | C4: 1 | D4: 2 | E4: 3 | F4: 4 | G4: 5 | H4: 6 | I4: 7 | J4: 8 | K4: 9 | L4: 10 | M4: 11 | N4: 12 | O4: 13 | P4: 14 | Q4: 15 | R4: 16 | S4: 17 | T4: 18 | U4: 19 | V4: 20 | W4: 21 | X4: 22 | Y4: 23 | Z4: 24 | AA4: 25 | AB4: 26 | AC4: 27 | AD4: 28 | AE4: 29 | AF4: 30 | AG4: 31 | AH4: 32 | AI4: 33 | AJ4: 34 | AK4: 35 | AL4: 36 | AM4: 37 | AN4: 38 | AO4: 39 | AP4: 40 | AQ4: 41 | AR4: 42 | AS4: 43 | AT4: 44 | AU4: 45 | AV4: 46 | AW4: 47 | AX4: 48 | AY4: 49 | AZ4: 50 | BA4: 51 | BB4: 52 | BC4: 53 | BD4: 54 | BE4: 55 | BF4: 56 | BG4: 57 | BH4: 58 | BI4: 59 | BJ4: 60 | BK4: Annual | BL4: Annual | BM4: Annual | BN4: Annual | BO4: Annual
A5: Year | C5: =INT((C4-1)/12)+1 -> 1 | D5: =INT((D4-1)/12)+1 -> 1 | E5: =INT((E4-1)/12)+1 -> 1 | F5: =INT((F4-1)/12)+1 -> 1 | G5: =INT((G4-1)/12)+1 -> 1 | H5: =INT((H4-1)/12)+1 -> 1 | I5: =INT((I4-1)/12)+1 -> 1 | J5: =INT((J4-1)/12)+1 -> 1 | ... BJ5: =INT((BJ4-1)/12)+1 -> 5 | BK5: 1 | BL5: 2 | BM5: 3 | BN5: 4 | BO5: 5
A6: Month | B6: Unit | C6: =EDATE(Assumptions!$C$7,C4-1) -> 46388 | D6: =EDATE(Assumptions!$C$7,D4-1) -> 46419 | E6: =EDATE(Assumptions!$C$7,E4-1) -> 46447 | F6: =EDATE(Assumptions!$C$7,F4-1) -> 46478 | G6: =EDATE(Assumptions!$C$7,G4-1) -> 46508 | H6: =EDATE(Assumptions!$C$7,H4-1) -> 46539 | I6: =EDATE(Assumptions!$C$7,I4-1) -> 46569 | J6: =EDATE(Assumptions!$C$7,J4-1) -> 46600 | ... BJ6: =EDATE(Assumptions!$C$7,BJ4-1) -> 48183 | BK6: Year 1 | BL6: Year 2 | BM6: Year 3 | BN6: Year 4 | BO6: Year 5
A7: Salaries by role
A8: ="Role 1: "&Assumptions!$B$46 -> Role 1: Owner-manager (example) | C8: =IF(C4>=Assumptions!$E$46,Assumptions!$C$46*Assumptions!$D$46/12*(1+Assumptions!$F$46)^(C5-1),0) -> 4166.6667 | D8: =IF(D4>=Assumptions!$E$46,Assumptions!$C$46*Assumptions!$D$46/12*(1+Assumptions!$F$46)^(D5-1),0) -> 4166.6667 | E8: =IF(E4>=Assumptions!$E$46,Assumptions!$C$46*Assumptions!$D$46/12*(1+Assumptions!$F$46)^(E5-1),0) -> 4166.6667 | F8: =IF(F4>=Assumptions!$E$46,Assumptions!$C$46*Assumptions!$D$46/12*(1+Assumptions!$F$46)^(F5-1),0) -> 4166.6667 | G8: =IF(G4>=Assumptions!$E$46,Assumptions!$C$46*Assumptions!$D$46/12*(1+Assumptions!$F$46)^(G5-1),0) -> 4166.6667 | H8: =IF(H4>=Assumptions!$E$46,Assumptions!$C$46*Assumptions!$D$46/12*(1+Assumptions!$F$46)^(H5-1),0) -> 4166.6667 | I8: =IF(I4>=Assumptions!$E$46,Assumptions!$C$46*Assumptions!$D$46/12*(1+Assumptions!$F$46)^(I5-1),0) -> 4166.6667 | J8: =IF(J4>=Assumptions!$E$46,Assumptions!$C$46*Assumptions!$D$46/12*(1+Assumptions!$F$46)^(J5-1),0) -> 4166.6667 | ... BJ8: =IF(BJ4>=Assumptions!$E$46,Assumptions!$C$46*Assumptions!$D$46/12*(1+Assumptions!$F$46)^(BJ5-1),0) -> 4689.62 | BK8: =SUMIF($C$5:$BJ$5,BK$5,$C8:$BJ8) -> 50000 | BL8: =SUMIF($C$5:$BJ$5,BL$5,$C8:$BJ8) -> 51500 | BM8: =SUMIF($C$5:$BJ$5,BM$5,$C8:$BJ8) -> 53045 | BN8: =SUMIF($C$5:$BJ$5,BN$5,$C8:$BJ8) -> 54636.35 | BO8: =SUMIF($C$5:$BJ$5,BO$5,$C8:$BJ8) -> 56275.44
A9: ="Role 2: "&Assumptions!$B$47 -> Role 2: Service staff (example) | C9: =IF(C4>=Assumptions!$E$47,Assumptions!$C$47*Assumptions!$D$47/12*(1+Assumptions!$F$47)^(C5-1),0) -> 6666.6667 | D9: =IF(D4>=Assumptions!$E$47,Assumptions!$C$47*Assumptions!$D$47/12*(1+Assumptions!$F$47)^(D5-1),0) -> 6666.6667 | E9: =IF(E4>=Assumptions!$E$47,Assumptions!$C$47*Assumptions!$D$47/12*(1+Assumptions!$F$47)^(E5-1),0) -> 6666.6667 | F9: =IF(F4>=Assumptions!$E$47,Assumptions!$C$47*Assumptions!$D$47/12*(1+Assumptions!$F$47)^(F5-1),0) -> 6666.6667 | G9: =IF(G4>=Assumptions!$E$47,Assumptions!$C$47*Assumptions!$D$47/12*(1+Assumptions!$F$47)^(G5-1),0) -> 6666.6667 | H9: =IF(H4>=Assumptions!$E$47,Assumptions!$C$47*Assumptions!$D$47/12*(1+Assumptions!$F$47)^(H5-1),0) -> 6666.6667 | I9: =IF(I4>=Assumptions!$E$47,Assumptions!$C$47*Assumptions!$D$47/12*(1+Assumptions!$F$47)^(I5-1),0) -> 6666.6667 | J9: =IF(J4>=Assumptions!$E$47,Assumptions!$C$47*Assumptions!$D$47/12*(1+Assumptions!$F$47)^(J5-1),0) -> 6666.6667 | ... BJ9: =IF(BJ4>=Assumptions!$E$47,Assumptions!$C$47*Assumptions!$D$47/12*(1+Assumptions!$F$47)^(BJ5-1),0) -> 7503.3921 | BK9: =SUMIF($C$5:$BJ$5,BK$5,$C9:$BJ9) -> 80000 | BL9: =SUMIF($C$5:$BJ$5,BL$5,$C9:$BJ9) -> 82400 | BM9: =SUMIF($C$5:$BJ$5,BM$5,$C9:$BJ9) -> 84872 | BN9: =SUMIF($C$5:$BJ$5,BN$5,$C9:$BJ9) -> 87418.16 | BO9: =SUMIF($C$5:$BJ$5,BO$5,$C9:$BJ9) -> 90040.705
A10: ="Role 3: "&Assumptions!$B$48 -> Role 3: Office and sales assistant (example) | C10: =IF(C4>=Assumptions!$E$48,Assumptions!$C$48*Assumptions!$D$48/12*(1+Assumptions!$F$48)^(C5-1),0) -> 0 | D10: =IF(D4>=Assumptions!$E$48,Assumptions!$C$48*Assumptions!$D$48/12*(1+Assumptions!$F$48)^(D5-1),0) -> 0 | E10: =IF(E4>=Assumptions!$E$48,Assumptions!$C$48*Assumptions!$D$48/12*(1+Assumptions!$F$48)^(E5-1),0) -> 0 | F10: =IF(F4>=Assumptions!$E$48,Assumptions!$C$48*Assumptions!$D$48/12*(1+Assumptions!$F$48)^(F5-1),0) -> 0 | G10: =IF(G4>=Assumptions!$E$48,Assumptions!$C$48*Assumptions!$D$48/12*(1+Assumptions!$F$48)^(G5-1),0) -> 0 | H10: =IF(H4>=Assumptions!$E$48,Assumptions!$C$48*Assumptions!$D$48/12*(1+Assumptions!$F$48)^(H5-1),0) -> 0 | I10: =IF(I4>=Assumptions!$E$48,Assumptions!$C$48*Assumptions!$D$48/12*(1+Assumptions!$F$48)^(I5-1),0) -> 2833.3333 | J10: =IF(J4>=Assumptions!$E$48,Assumptions!$C$48*Assumptions!$D$48/12*(1+Assumptions!$F$48)^(J5-1),0) -> 2833.3333 | ... BJ10: =IF(BJ4>=Assumptions!$E$48,Assumptions!$C$48*Assumptions!$D$48/12*(1+Assumptions!$F$48)^(BJ5-1),0) -> 3188.9416 | BK10: =SUMIF($C$5:$BJ$5,BK$5,$C10:$BJ10) -> 17000 | BL10: =SUMIF($C$5:$BJ$5,BL$5,$C10:$BJ10) -> 35020 | BM10: =SUMIF($C$5:$BJ$5,BM$5,$C10:$BJ10) -> 36070.6 | BN10: =SUMIF($C$5:$BJ$5,BN$5,$C10:$BJ10) -> 37152.718 | BO10: =SUMIF($C$5:$BJ$5,BO$5,$C10:$BJ10) -> 38267.3
A11: ="Role 4: "&Assumptions!$B$49 -> Role 4: Additional service staff (example) | C11: =IF(C4>=Assumptions!$E$49,Assumptions!$C$49*Assumptions!$D$49/12*(1+Assumptions!$F$49)^(C5-1),0) -> 0 | D11: =IF(D4>=Assumptions!$E$49,Assumptions!$C$49*Assumptions!$D$49/12*(1+Assumptions!$F$49)^(D5-1),0) -> 0 | E11: =IF(E4>=Assumptions!$E$49,Assumptions!$C$49*Assumptions!$D$49/12*(1+Assumptions!$F$49)^(E5-1),0) -> 0 | F11: =IF(F4>=Assumptions!$E$49,Assumptions!$C$49*Assumptions!$D$49/12*(1+Assumptions!$F$49)^(F5-1),0) -> 0 | G11: =IF(G4>=Assumptions!$E$49,Assumptions!$C$49*Assumptions!$D$49/12*(1+Assumptions!$F$49)^(G5-1),0) -> 0 | H11: =IF(H4>=Assumptions!$E$49,Assumptions!$C$49*Assumptions!$D$49/12*(1+Assumptions!$F$49)^(H5-1),0) -> 0 | I11: =IF(I4>=Assumptions!$E$49,Assumptions!$C$49*Assumptions!$D$49/12*(1+Assumptions!$F$49)^(I5-1),0) -> 0 | J11: =IF(J4>=Assumptions!$E$49,Assumptions!$C$49*Assumptions!$D$49/12*(1+Assumptions!$F$49)^(J5-1),0) -> 0 | ... BJ11: =IF(BJ4>=Assumptions!$E$49,Assumptions!$C$49*Assumptions!$D$49/12*(1+Assumptions!$F$49)^(BJ5-1),0) -> 3751.696 | BK11: =SUMIF($C$5:$BJ$5,BK$5,$C11:$BJ11) -> 0 | BL11: =SUMIF($C$5:$BJ$5,BL$5,$C11:$BJ11) -> 0 | BM11: =SUMIF($C$5:$BJ$5,BM$5,$C11:$BJ11) -> 42436 | BN11: =SUMIF($C$5:$BJ$5,BN$5,$C11:$BJ11) -> 43709.08 | BO11: =SUMIF($C$5:$BJ$5,BO$5,$C11:$BJ11) -> 45020.352
A12: ="Role 5: "&Assumptions!$B$50 -> Role 5: Role 5 (not used) | C12: =IF(C4>=Assumptions!$E$50,Assumptions!$C$50*Assumptions!$D$50/12*(1+Assumptions!$F$50)^(C5-1),0) -> 0 | D12: =IF(D4>=Assumptions!$E$50,Assumptions!$C$50*Assumptions!$D$50/12*(1+Assumptions!$F$50)^(D5-1),0) -> 0 | E12: =IF(E4>=Assumptions!$E$50,Assumptions!$C$50*Assumptions!$D$50/12*(1+Assumptions!$F$50)^(E5-1),0) -> 0 | F12: =IF(F4>=Assumptions!$E$50,Assumptions!$C$50*Assumptions!$D$50/12*(1+Assumptions!$F$50)^(F5-1),0) -> 0 | G12: =IF(G4>=Assumptions!$E$50,Assumptions!$C$50*Assumptions!$D$50/12*(1+Assumptions!$F$50)^(G5-1),0) -> 0 | H12: =IF(H4>=Assumptions!$E$50,Assumptions!$C$50*Assumptions!$D$50/12*(1+Assumptions!$F$50)^(H5-1),0) -> 0 | I12: =IF(I4>=Assumptions!$E$50,Assumptions!$C$50*Assumptions!$D$50/12*(1+Assumptions!$F$50)^(I5-1),0) -> 0 | J12: =IF(J4>=Assumptions!$E$50,Assumptions!$C$50*Assumptions!$D$50/12*(1+Assumptions!$F$50)^(J5-1),0) -> 0 | ... BJ12: =IF(BJ4>=Assumptions!$E$50,Assumptions!$C$50*Assumptions!$D$50/12*(1+Assumptions!$F$50)^(BJ5-1),0) -> 0 | BK12: =SUMIF($C$5:$BJ$5,BK$5,$C12:$BJ12) -> 0 | BL12: =SUMIF($C$5:$BJ$5,BL$5,$C12:$BJ12) -> 0 | BM12: =SUMIF($C$5:$BJ$5,BM$5,$C12:$BJ12) -> 0 | BN12: =SUMIF($C$5:$BJ$5,BN$5,$C12:$BJ12) -> 0 | BO12: =SUMIF($C$5:$BJ$5,BO$5,$C12:$BJ12) -> 0
A13: ="Role 6: "&Assumptions!$B$51 -> Role 6: Role 6 (not used) | C13: =IF(C4>=Assumptions!$E$51,Assumptions!$C$51*Assumptions!$D$51/12*(1+Assumptions!$F$51)^(C5-1),0) -> 0 | D13: =IF(D4>=Assumptions!$E$51,Assumptions!$C$51*Assumptions!$D$51/12*(1+Assumptions!$F$51)^(D5-1),0) -> 0 | E13: =IF(E4>=Assumptions!$E$51,Assumptions!$C$51*Assumptions!$D$51/12*(1+Assumptions!$F$51)^(E5-1),0) -> 0 | F13: =IF(F4>=Assumptions!$E$51,Assumptions!$C$51*Assumptions!$D$51/12*(1+Assumptions!$F$51)^(F5-1),0) -> 0 | G13: =IF(G4>=Assumptions!$E$51,Assumptions!$C$51*Assumptions!$D$51/12*(1+Assumptions!$F$51)^(G5-1),0) -> 0 | H13: =IF(H4>=Assumptions!$E$51,Assumptions!$C$51*Assumptions!$D$51/12*(1+Assumptions!$F$51)^(H5-1),0) -> 0 | I13: =IF(I4>=Assumptions!$E$51,Assumptions!$C$51*Assumptions!$D$51/12*(1+Assumptions!$F$51)^(I5-1),0) -> 0 | J13: =IF(J4>=Assumptions!$E$51,Assumptions!$C$51*Assumptions!$D$51/12*(1+Assumptions!$F$51)^(J5-1),0) -> 0 | ... BJ13: =IF(BJ4>=Assumptions!$E$51,Assumptions!$C$51*Assumptions!$D$51/12*(1+Assumptions!$F$51)^(BJ5-1),0) -> 0 | BK13: =SUMIF($C$5:$BJ$5,BK$5,$C13:$BJ13) -> 0 | BL13: =SUMIF($C$5:$BJ$5,BL$5,$C13:$BJ13) -> 0 | BM13: =SUMIF($C$5:$BJ$5,BM$5,$C13:$BJ13) -> 0 | BN13: =SUMIF($C$5:$BJ$5,BN$5,$C13:$BJ13) -> 0 | BO13: =SUMIF($C$5:$BJ$5,BO$5,$C13:$BJ13) -> 0
A14: ="Role 7: "&Assumptions!$B$52 -> Role 7: Role 7 (not used) | C14: =IF(C4>=Assumptions!$E$52,Assumptions!$C$52*Assumptions!$D$52/12*(1+Assumptions!$F$52)^(C5-1),0) -> 0 | D14: =IF(D4>=Assumptions!$E$52,Assumptions!$C$52*Assumptions!$D$52/12*(1+Assumptions!$F$52)^(D5-1),0) -> 0 | E14: =IF(E4>=Assumptions!$E$52,Assumptions!$C$52*Assumptions!$D$52/12*(1+Assumptions!$F$52)^(E5-1),0) -> 0 | F14: =IF(F4>=Assumptions!$E$52,Assumptions!$C$52*Assumptions!$D$52/12*(1+Assumptions!$F$52)^(F5-1),0) -> 0 | G14: =IF(G4>=Assumptions!$E$52,Assumptions!$C$52*Assumptions!$D$52/12*(1+Assumptions!$F$52)^(G5-1),0) -> 0 | H14: =IF(H4>=Assumptions!$E$52,Assumptions!$C$52*Assumptions!$D$52/12*(1+Assumptions!$F$52)^(H5-1),0) -> 0 | I14: =IF(I4>=Assumptions!$E$52,Assumptions!$C$52*Assumptions!$D$52/12*(1+Assumptions!$F$52)^(I5-1),0) -> 0 | J14: =IF(J4>=Assumptions!$E$52,Assumptions!$C$52*Assumptions!$D$52/12*(1+Assumptions!$F$52)^(J5-1),0) -> 0 | ... BJ14: =IF(BJ4>=Assumptions!$E$52,Assumptions!$C$52*Assumptions!$D$52/12*(1+Assumptions!$F$52)^(BJ5-1),0) -> 0 | BK14: =SUMIF($C$5:$BJ$5,BK$5,$C14:$BJ14) -> 0 | BL14: =SUMIF($C$5:$BJ$5,BL$5,$C14:$BJ14) -> 0 | BM14: =SUMIF($C$5:$BJ$5,BM$5,$C14:$BJ14) -> 0 | BN14: =SUMIF($C$5:$BJ$5,BN$5,$C14:$BJ14) -> 0 | BO14: =SUMIF($C$5:$BJ$5,BO$5,$C14:$BJ14) -> 0
A15: ="Role 8: "&Assumptions!$B$53 -> Role 8: Role 8 (not used) | C15: =IF(C4>=Assumptions!$E$53,Assumptions!$C$53*Assumptions!$D$53/12*(1+Assumptions!$F$53)^(C5-1),0) -> 0 | D15: =IF(D4>=Assumptions!$E$53,Assumptions!$C$53*Assumptions!$D$53/12*(1+Assumptions!$F$53)^(D5-1),0) -> 0 | E15: =IF(E4>=Assumptions!$E$53,Assumptions!$C$53*Assumptions!$D$53/12*(1+Assumptions!$F$53)^(E5-1),0) -> 0 | F15: =IF(F4>=Assumptions!$E$53,Assumptions!$C$53*Assumptions!$D$53/12*(1+Assumptions!$F$53)^(F5-1),0) -> 0 | G15: =IF(G4>=Assumptions!$E$53,Assumptions!$C$53*Assumptions!$D$53/12*(1+Assumptions!$F$53)^(G5-1),0) -> 0 | H15: =IF(H4>=Assumptions!$E$53,Assumptions!$C$53*Assumptions!$D$53/12*(1+Assumptions!$F$53)^(H5-1),0) -> 0 | I15: =IF(I4>=Assumptions!$E$53,Assumptions!$C$53*Assumptions!$D$53/12*(1+Assumptions!$F$53)^(I5-1),0) -> 0 | J15: =IF(J4>=Assumptions!$E$53,Assumptions!$C$53*Assumptions!$D$53/12*(1+Assumptions!$F$53)^(J5-1),0) -> 0 | ... BJ15: =IF(BJ4>=Assumptions!$E$53,Assumptions!$C$53*Assumptions!$D$53/12*(1+Assumptions!$F$53)^(BJ5-1),0) -> 0 | BK15: =SUMIF($C$5:$BJ$5,BK$5,$C15:$BJ15) -> 0 | BL15: =SUMIF($C$5:$BJ$5,BL$5,$C15:$BJ15) -> 0 | BM15: =SUMIF($C$5:$BJ$5,BM$5,$C15:$BJ15) -> 0 | BN15: =SUMIF($C$5:$BJ$5,BN$5,$C15:$BJ15) -> 0 | BO15: =SUMIF($C$5:$BJ$5,BO$5,$C15:$BJ15) -> 0
A16: ="Role 9: "&Assumptions!$B$54 -> Role 9: Role 9 (not used) | C16: =IF(C4>=Assumptions!$E$54,Assumptions!$C$54*Assumptions!$D$54/12*(1+Assumptions!$F$54)^(C5-1),0) -> 0 | D16: =IF(D4>=Assumptions!$E$54,Assumptions!$C$54*Assumptions!$D$54/12*(1+Assumptions!$F$54)^(D5-1),0) -> 0 | E16: =IF(E4>=Assumptions!$E$54,Assumptions!$C$54*Assumptions!$D$54/12*(1+Assumptions!$F$54)^(E5-1),0) -> 0 | F16: =IF(F4>=Assumptions!$E$54,Assumptions!$C$54*Assumptions!$D$54/12*(1+Assumptions!$F$54)^(F5-1),0) -> 0 | G16: =IF(G4>=Assumptions!$E$54,Assumptions!$C$54*Assumptions!$D$54/12*(1+Assumptions!$F$54)^(G5-1),0) -> 0 | H16: =IF(H4>=Assumptions!$E$54,Assumptions!$C$54*Assumptions!$D$54/12*(1+Assumptions!$F$54)^(H5-1),0) -> 0 | I16: =IF(I4>=Assumptions!$E$54,Assumptions!$C$54*Assumptions!$D$54/12*(1+Assumptions!$F$54)^(I5-1),0) -> 0 | J16: =IF(J4>=Assumptions!$E$54,Assumptions!$C$54*Assumptions!$D$54/12*(1+Assumptions!$F$54)^(J5-1),0) -> 0 | ... BJ16: =IF(BJ4>=Assumptions!$E$54,Assumptions!$C$54*Assumptions!$D$54/12*(1+Assumptions!$F$54)^(BJ5-1),0) -> 0 | BK16: =SUMIF($C$5:$BJ$5,BK$5,$C16:$BJ16) -> 0 | BL16: =SUMIF($C$5:$BJ$5,BL$5,$C16:$BJ16) -> 0 | BM16: =SUMIF($C$5:$BJ$5,BM$5,$C16:$BJ16) -> 0 | BN16: =SUMIF($C$5:$BJ$5,BN$5,$C16:$BJ16) -> 0 | BO16: =SUMIF($C$5:$BJ$5,BO$5,$C16:$BJ16) -> 0
A17: ="Role 10: "&Assumptions!$B$55 -> Role 10: Role 10 (not used) | C17: =IF(C4>=Assumptions!$E$55,Assumptions!$C$55*Assumptions!$D$55/12*(1+Assumptions!$F$55)^(C5-1),0) -> 0 | D17: =IF(D4>=Assumptions!$E$55,Assumptions!$C$55*Assumptions!$D$55/12*(1+Assumptions!$F$55)^(D5-1),0) -> 0 | E17: =IF(E4>=Assumptions!$E$55,Assumptions!$C$55*Assumptions!$D$55/12*(1+Assumptions!$F$55)^(E5-1),0) -> 0 | F17: =IF(F4>=Assumptions!$E$55,Assumptions!$C$55*Assumptions!$D$55/12*(1+Assumptions!$F$55)^(F5-1),0) -> 0 | G17: =IF(G4>=Assumptions!$E$55,Assumptions!$C$55*Assumptions!$D$55/12*(1+Assumptions!$F$55)^(G5-1),0) -> 0 | H17: =IF(H4>=Assumptions!$E$55,Assumptions!$C$55*Assumptions!$D$55/12*(1+Assumptions!$F$55)^(H5-1),0) -> 0 | I17: =IF(I4>=Assumptions!$E$55,Assumptions!$C$55*Assumptions!$D$55/12*(1+Assumptions!$F$55)^(I5-1),0) -> 0 | J17: =IF(J4>=Assumptions!$E$55,Assumptions!$C$55*Assumptions!$D$55/12*(1+Assumptions!$F$55)^(J5-1),0) -> 0 | ... BJ17: =IF(BJ4>=Assumptions!$E$55,Assumptions!$C$55*Assumptions!$D$55/12*(1+Assumptions!$F$55)^(BJ5-1),0) -> 0 | BK17: =SUMIF($C$5:$BJ$5,BK$5,$C17:$BJ17) -> 0 | BL17: =SUMIF($C$5:$BJ$5,BL$5,$C17:$BJ17) -> 0 | BM17: =SUMIF($C$5:$BJ$5,BM$5,$C17:$BJ17) -> 0 | BN17: =SUMIF($C$5:$BJ$5,BN$5,$C17:$BJ17) -> 0 | BO17: =SUMIF($C$5:$BJ$5,BO$5,$C17:$BJ17) -> 0
A18: Total salaries | C18: =SUM(C8:C17) -> 10833.333 | D18: =SUM(D8:D17) -> 10833.333 | E18: =SUM(E8:E17) -> 10833.333 | F18: =SUM(F8:F17) -> 10833.333 | G18: =SUM(G8:G17) -> 10833.333 | H18: =SUM(H8:H17) -> 10833.333 | I18: =SUM(I8:I17) -> 13666.667 | J18: =SUM(J8:J17) -> 13666.667 | ... BJ18: =SUM(BJ8:BJ17) -> 19133.65 | BK18: =SUMIF($C$5:$BJ$5,BK$5,$C18:$BJ18) -> 147000 | BL18: =SUMIF($C$5:$BJ$5,BL$5,$C18:$BJ18) -> 168920 | BM18: =SUMIF($C$5:$BJ$5,BM$5,$C18:$BJ18) -> 216423.6 | BN18: =SUMIF($C$5:$BJ$5,BN$5,$C18:$BJ18) -> 222916.31 | BO18: =SUMIF($C$5:$BJ$5,BO$5,$C18:$BJ18) -> 229603.8
A19: Employer FICA (Social Security + Medicare) | C19: =C18*Assumptions!$C$58 -> 828.75 | D19: =D18*Assumptions!$C$58 -> 828.75 | E19: =E18*Assumptions!$C$58 -> 828.75 | F19: =F18*Assumptions!$C$58 -> 828.75 | G19: =G18*Assumptions!$C$58 -> 828.75 | H19: =H18*Assumptions!$C$58 -> 828.75 | I19: =I18*Assumptions!$C$58 -> 1045.5 | J19: =J18*Assumptions!$C$58 -> 1045.5 | ... BJ19: =BJ18*Assumptions!$C$58 -> 1463.7242 | BK19: =SUMIF($C$5:$BJ$5,BK$5,$C19:$BJ19) -> 11245.5 | BL19: =SUMIF($C$5:$BJ$5,BL$5,$C19:$BJ19) -> 12922.38 | BM19: =SUMIF($C$5:$BJ$5,BM$5,$C19:$BJ19) -> 16556.405 | BN19: =SUMIF($C$5:$BJ$5,BN$5,$C19:$BJ19) -> 17053.098 | BO19: =SUMIF($C$5:$BJ$5,BO$5,$C19:$BJ19) -> 17564.69
A20: Other payroll costs (benefits, workers' comp, unemployment insurance) | C20: =C18*Assumptions!$C$59 -> 866.66667 | D20: =D18*Assumptions!$C$59 -> 866.66667 | E20: =E18*Assumptions!$C$59 -> 866.66667 | F20: =F18*Assumptions!$C$59 -> 866.66667 | G20: =G18*Assumptions!$C$59 -> 866.66667 | H20: =H18*Assumptions!$C$59 -> 866.66667 | I20: =I18*Assumptions!$C$59 -> 1093.3333 | J20: =J18*Assumptions!$C$59 -> 1093.3333 | ... BJ20: =BJ18*Assumptions!$C$59 -> 1530.692 | BK20: =SUMIF($C$5:$BJ$5,BK$5,$C20:$BJ20) -> 11760 | BL20: =SUMIF($C$5:$BJ$5,BL$5,$C20:$BJ20) -> 13513.6 | BM20: =SUMIF($C$5:$BJ$5,BM$5,$C20:$BJ20) -> 17313.888 | BN20: =SUMIF($C$5:$BJ$5,BN$5,$C20:$BJ20) -> 17833.305 | BO20: =SUMIF($C$5:$BJ$5,BO$5,$C20:$BJ20) -> 18368.304
A21: TOTAL PAYROLL COST | C21: =C18+C19+C20 -> 12528.75 | D21: =D18+D19+D20 -> 12528.75 | E21: =E18+E19+E20 -> 12528.75 | F21: =F18+F19+F20 -> 12528.75 | G21: =G18+G19+G20 -> 12528.75 | H21: =H18+H19+H20 -> 12528.75 | I21: =I18+I19+I20 -> 15805.5 | J21: =J18+J19+J20 -> 15805.5 | ... BJ21: =BJ18+BJ19+BJ20 -> 22128.066 | BK21: =SUMIF($C$5:$BJ$5,BK$5,$C21:$BJ21) -> 170005.5 | BL21: =SUMIF($C$5:$BJ$5,BL$5,$C21:$BJ21) -> 195355.98 | BM21: =SUMIF($C$5:$BJ$5,BM$5,$C21:$BJ21) -> 250293.89 | BN21: =SUMIF($C$5:$BJ$5,BN$5,$C21:$BJ21) -> 257802.71 | BO21: =SUMIF($C$5:$BJ$5,BO$5,$C21:$BJ21) -> 265536.79
A23: Headcount on payroll | B23: people | C23: =IF(C4>=Assumptions!$E$46,Assumptions!$C$46,0)+IF(C4>=Assumptions!$E$47,Assumptions!$C$47,0)+IF(C4>=Assumptions!$E$48,Assumptions!$C$48,0)+IF(C4>=Assumptions!$E$49,Assumptions!$C$49,0)+IF(C4>=Assumptions!$E$50,Assumptions!$C$50,0)+IF(C4>=Assumptions!$E$51,Assumptions!$C$51,0)+IF(C4>=Assumptions!$E$52,Assumptions!$C$52,0)+IF(C4>=Assumptions!$E$53,Assumptions!$C$53,0)+IF(C4>=Assumptions!$E$54,Assumptions!$C$54,0)+IF(C4>=Assumptions!$E$55,Assumptions!$C$55,0) -> 3 | D23: =IF(D4>=Assumptions!$E$46,Assumptions!$C$46,0)+IF(D4>=Assumptions!$E$47,Assumptions!$C$47,0)+IF(D4>=Assumptions!$E$48,Assumptions!$C$48,0)+IF(D4>=Assumptions!$E$49,Assumptions!$C$49,0)+IF(D4>=Assumptions!$E$50,Assumptions!$C$50,0)+IF(D4>=Assumptions!$E$51,Assumptions!$C$51,0)+IF(D4>=Assumptions!$E$52,Assumptions!$C$52,0)+IF(D4>=Assumptions!$E$53,Assumptions!$C$53,0)+IF(D4>=Assumptions!$E$54,Assumptions!$C$54,0)+IF(D4>=Assumptions!$E$55,Assumptions!$C$55,0) -> 3 | E23: =IF(E4>=Assumptions!$E$46,Assumptions!$C$46,0)+IF(E4>=Assumptions!$E$47,Assumptions!$C$47,0)+IF(E4>=Assumptions!$E$48,Assumptions!$C$48,0)+IF(E4>=Assumptions!$E$49,Assumptions!$C$49,0)+IF(E4>=Assumptions!$E$50,Assumptions!$C$50,0)+IF(E4>=Assumptions!$E$51,Assumptions!$C$51,0)+IF(E4>=Assumptions!$E$52,Assumptions!$C$52,0)+IF(E4>=Assumptions!$E$53,Assumptions!$C$53,0)+IF(E4>=Assumptions!$E$54,Assumptions!$C$54,0)+IF(E4>=Assumptions!$E$55,Assumptions!$C$55,0) -> 3 | F23: =IF(F4>=Assumptions!$E$46,Assumptions!$C$46,0)+IF(F4>=Assumptions!$E$47,Assumptions!$C$47,0)+IF(F4>=Assumptions!$E$48,Assumptions!$C$48,0)+IF(F4>=Assumptions!$E$49,Assumptions!$C$49,0)+IF(F4>=Assumptions!$E$50,Assumptions!$C$50,0)+IF(F4>=Assumptions!$E$51,Assumptions!$C$51,0)+IF(F4>=Assumptions!$E$52,Assumptions!$C$52,0)+IF(F4>=Assumptions!$E$53,Assumptions!$C$53,0)+IF(F4>=Assumptions!$E$54,Assumptions!$C$54,0)+IF(F4>=Assumptions!$E$55,Assumptions!$C$55,0) -> 3 | G23: =IF(G4>=Assumptions!$E$46,Assumptions!$C$46,0)+IF(G4>=Assumptions!$E$47,Assumptions!$C$47,0)+IF(G4>=Assumptions!$E$48,Assumptions!$C$48,0)+IF(G4>=Assumptions!$E$49,Assumptions!$C$49,0)+IF(G4>=Assumptions!$E$50,Assumptions!$C$50,0)+IF(G4>=Assumptions!$E$51,Assumptions!$C$51,0)+IF(G4>=Assumptions!$E$52,Assumptions!$C$52,0)+IF(G4>=Assumptions!$E$53,Assumptions!$C$53,0)+IF(G4>=Assumptions!$E$54,Assumptions!$C$54,0)+IF(G4>=Assumptions!$E$55,Assumptions!$C$55,0) -> 3 | H23: =IF(H4>=Assumptions!$E$46,Assumptions!$C$46,0)+IF(H4>=Assumptions!$E$47,Assumptions!$C$47,0)+IF(H4>=Assumptions!$E$48,Assumptions!$C$48,0)+IF(H4>=Assumptions!$E$49,Assumptions!$C$49,0)+IF(H4>=Assumptions!$E$50,Assumptions!$C$50,0)+IF(H4>=Assumptions!$E$51,Assumptions!$C$51,0)+IF(H4>=Assumptions!$E$52,Assumptions!$C$52,0)+IF(H4>=Assumptions!$E$53,Assumptions!$C$53,0)+IF(H4>=Assumptions!$E$54,Assumptions!$C$54,0)+IF(H4>=Assumptions!$E$55,Assumptions!$C$55,0) -> 3 | I23: =IF(I4>=Assumptions!$E$46,Assumptions!$C$46,0)+IF(I4>=Assumptions!$E$47,Assumptions!$C$47,0)+IF(I4>=Assumptions!$E$48,Assumptions!$C$48,0)+IF(I4>=Assumptions!$E$49,Assumptions!$C$49,0)+IF(I4>=Assumptions!$E$50,Assumptions!$C$50,0)+IF(I4>=Assumptions!$E$51,Assumptions!$C$51,0)+IF(I4>=Assumptions!$E$52,Assumptions!$C$52,0)+IF(I4>=Assumptions!$E$53,Assumptions!$C$53,0)+IF(I4>=Assumptions!$E$54,Assumptions!$C$54,0)+IF(I4>=Assumptions!$E$55,Assumptions!$C$55,0) -> 4 | J23: =IF(J4>=Assumptions!$E$46,Assumptions!$C$46,0)+IF(J4>=Assumptions!$E$47,Assumptions!$C$47,0)+IF(J4>=Assumptions!$E$48,Assumptions!$C$48,0)+IF(J4>=Assumptions!$E$49,Assumptions!$C$49,0)+IF(J4>=Assumptions!$E$50,Assumptions!$C$50,0)+IF(J4>=Assumptions!$E$51,Assumptions!$C$51,0)+IF(J4>=Assumptions!$E$52,Assumptions!$C$52,0)+IF(J4>=Assumptions!$E$53,Assumptions!$C$53,0)+IF(J4>=Assumptions!$E$54,Assumptions!$C$54,0)+IF(J4>=Assumptions!$E$55,Assumptions!$C$55,0) -> 4 | ... BJ23: =IF(BJ4>=Assumptions!$E$46,Assumptions!$C$46,0)+IF(BJ4>=Assumptions!$E$47,Assumptions!$C$47,0)+IF(BJ4>=Assumptions!$E$48,Assumptions!$C$48,0)+IF(BJ4>=Assumptions!$E$49,Assumptions!$C$49,0)+IF(BJ4>=Assumptions!$E$50,Assumptions!$C$50,0)+IF(BJ4>=Assumptions!$E$51,Assumptions!$C$51,0)+IF(BJ4>=Assumptions!$E$52,Assumptions!$C$52,0)+IF(BJ4>=Assumptions!$E$53,Assumptions!$C$53,0)+IF(BJ4>=Assumptions!$E$54,Assumptions!$C$54,0)+IF(BJ4>=Assumptions!$E$55,Assumptions!$C$55,0) -> 5 | BK23: =INDEX($C23:$BJ23,BK$5*12) -> 4 | BL23: =INDEX($C23:$BJ23,BL$5*12) -> 4 | BM23: =INDEX($C23:$BJ23,BM$5*12) -> 5 | BN23: =INDEX($C23:$BJ23,BN$5*12) -> 5 | BO23: =INDEX($C23:$BJ23,BO$5*12) -> 5
A24: Payroll % of sales | C24: =IF(Revenue!C32=0,0,C21/Revenue!C32) -> 0.71388889 | D24: =IF(Revenue!D32=0,0,D21/Revenue!D32) -> 0.59490741 | E24: =IF(Revenue!E32=0,0,E21/Revenue!E32) -> 0.45892857 | F24: =IF(Revenue!F32=0,0,F21/Revenue!F32) -> 0.38244048 | G24: =IF(Revenue!G32=0,0,G21/Revenue!G32) -> 0.32449495 | H24: =IF(Revenue!H32=0,0,H21/Revenue!H32) -> 0.29204545 | I24: =IF(Revenue!I32=0,0,I21/Revenue!I32) -> 0.3859707 | J24: =IF(Revenue!J32=0,0,J21/Revenue!J32) -> 0.40526923 | ... BO24: =IF(Revenue!BO32=0,0,BO21/Revenue!BO32) -> 0.39746546

Sheet OpEx
A1: Operating expenses and depreciation
A2: Fixed monthly costs rise each year by the increases in Assumptions section 7; variable costs follow sales. Depreciation (non-cash) is listed separately below and is not part of operating expenses.
A4: Month # | C4: 1 | D4: 2 | E4: 3 | F4: 4 | G4: 5 | H4: 6 | I4: 7 | J4: 8 | K4: 9 | L4: 10 | M4: 11 | N4: 12 | O4: 13 | P4: 14 | Q4: 15 | R4: 16 | S4: 17 | T4: 18 | U4: 19 | V4: 20 | W4: 21 | X4: 22 | Y4: 23 | Z4: 24 | AA4: 25 | AB4: 26 | AC4: 27 | AD4: 28 | AE4: 29 | AF4: 30 | AG4: 31 | AH4: 32 | AI4: 33 | AJ4: 34 | AK4: 35 | AL4: 36 | AM4: 37 | AN4: 38 | AO4: 39 | AP4: 40 | AQ4: 41 | AR4: 42 | AS4: 43 | AT4: 44 | AU4: 45 | AV4: 46 | AW4: 47 | AX4: 48 | AY4: 49 | AZ4: 50 | BA4: 51 | BB4: 52 | BC4: 53 | BD4: 54 | BE4: 55 | BF4: 56 | BG4: 57 | BH4: 58 | BI4: 59 | BJ4: 60 | BK4: Annual | BL4: Annual | BM4: Annual | BN4: Annual | BO4: Annual
A5: Year | C5: =INT((C4-1)/12)+1 -> 1 | D5: =INT((D4-1)/12)+1 -> 1 | E5: =INT((E4-1)/12)+1 -> 1 | F5: =INT((F4-1)/12)+1 -> 1 | G5: =INT((G4-1)/12)+1 -> 1 | H5: =INT((H4-1)/12)+1 -> 1 | I5: =INT((I4-1)/12)+1 -> 1 | J5: =INT((J4-1)/12)+1 -> 1 | ... BJ5: =INT((BJ4-1)/12)+1 -> 5 | BK5: 1 | BL5: 2 | BM5: 3 | BN5: 4 | BO5: 5
A6: Month | B6: Unit | C6: =EDATE(Assumptions!$C$7,C4-1) -> 46388 | D6: =EDATE(Assumptions!$C$7,D4-1) -> 46419 | E6: =EDATE(Assumptions!$C$7,E4-1) -> 46447 | F6: =EDATE(Assumptions!$C$7,F4-1) -> 46478 | G6: =EDATE(Assumptions!$C$7,G4-1) -> 46508 | H6: =EDATE(Assumptions!$C$7,H4-1) -> 46539 | I6: =EDATE(Assumptions!$C$7,I4-1) -> 46569 | J6: =EDATE(Assumptions!$C$7,J4-1) -> 46600 | ... BJ6: =EDATE(Assumptions!$C$7,BJ4-1) -> 48183 | BK6: Year 1 | BL6: Year 2 | BM6: Year 3 | BN6: Year 4 | BO6: Year 5
A7: Total sales (for % of sales costs) | C7: =Revenue!C32 -> 17550 | D7: =Revenue!D32 -> 21060 | E7: =Revenue!E32 -> 27300 | F7: =Revenue!F32 -> 32760 | G7: =Revenue!G32 -> 38610 | H7: =Revenue!H32 -> 42900 | I7: =Revenue!I32 -> 40950 | J7: =Revenue!J32 -> 39000 | ... BJ7: =Revenue!BJ32 -> 52889.282 | BK7: =SUMIF($C$5:$BJ$5,BK$5,$C7:$BJ7) -> 412230 | BL7: =SUMIF($C$5:$BJ$5,BL$5,$C7:$BJ7) -> 511308 | BM7: =SUMIF($C$5:$BJ$5,BM$5,$C7:$BJ7) -> 558800.13 | BN7: =SUMIF($C$5:$BJ$5,BN$5,$C7:$BJ7) -> 610899.75 | BO7: =SUMIF($C$5:$BJ$5,BO$5,$C7:$BJ7) -> 668075.14
A8: Rent increase factor | C8: =(1+Assumptions!$C$90)^(C5-1) -> 1 | D8: =(1+Assumptions!$C$90)^(D5-1) -> 1 | E8: =(1+Assumptions!$C$90)^(E5-1) -> 1 | F8: =(1+Assumptions!$C$90)^(F5-1) -> 1 | G8: =(1+Assumptions!$C$90)^(G5-1) -> 1 | H8: =(1+Assumptions!$C$90)^(H5-1) -> 1 | I8: =(1+Assumptions!$C$90)^(I5-1) -> 1 | J8: =(1+Assumptions!$C$90)^(J5-1) -> 1 | ... BJ8: =(1+Assumptions!$C$90)^(BJ5-1) -> 1.1255088
A9: Other fixed-cost increase factor | C9: =(1+Assumptions!$C$91)^(C5-1) -> 1 | D9: =(1+Assumptions!$C$91)^(D5-1) -> 1 | E9: =(1+Assumptions!$C$91)^(E5-1) -> 1 | F9: =(1+Assumptions!$C$91)^(F5-1) -> 1 | G9: =(1+Assumptions!$C$91)^(G5-1) -> 1 | H9: =(1+Assumptions!$C$91)^(H5-1) -> 1 | I9: =(1+Assumptions!$C$91)^(I5-1) -> 1 | J9: =(1+Assumptions!$C$91)^(J5-1) -> 1 | ... BJ9: =(1+Assumptions!$C$91)^(BJ5-1) -> 1.1255088
A11: Fixed operating expenses
A12: Rent | C12: =Assumptions!$C$82*C8 -> 2200 | D12: =Assumptions!$C$82*D8 -> 2200 | E12: =Assumptions!$C$82*E8 -> 2200 | F12: =Assumptions!$C$82*F8 -> 2200 | G12: =Assumptions!$C$82*G8 -> 2200 | H12: =Assumptions!$C$82*H8 -> 2200 | I12: =Assumptions!$C$82*I8 -> 2200 | J12: =Assumptions!$C$82*J8 -> 2200 | ... BJ12: =Assumptions!$C$82*BJ8 -> 2476.1194 | BK12: =SUMIF($C$5:$BJ$5,BK$5,$C12:$BJ12) -> 26400 | BL12: =SUMIF($C$5:$BJ$5,BL$5,$C12:$BJ12) -> 27192 | BM12: =SUMIF($C$5:$BJ$5,BM$5,$C12:$BJ12) -> 28007.76 | BN12: =SUMIF($C$5:$BJ$5,BN$5,$C12:$BJ12) -> 28847.993 | BO12: =SUMIF($C$5:$BJ$5,BO$5,$C12:$BJ12) -> 29713.433
A13: Utilities | C13: =Assumptions!$C$83*C9 -> 350 | D13: =Assumptions!$C$83*D9 -> 350 | E13: =Assumptions!$C$83*E9 -> 350 | F13: =Assumptions!$C$83*F9 -> 350 | G13: =Assumptions!$C$83*G9 -> 350 | H13: =Assumptions!$C$83*H9 -> 350 | I13: =Assumptions!$C$83*I9 -> 350 | J13: =Assumptions!$C$83*J9 -> 350 | ... BJ13: =Assumptions!$C$83*BJ9 -> 393.92808 | BK13: =SUMIF($C$5:$BJ$5,BK$5,$C13:$BJ13) -> 4200 | BL13: =SUMIF($C$5:$BJ$5,BL$5,$C13:$BJ13) -> 4326 | BM13: =SUMIF($C$5:$BJ$5,BM$5,$C13:$BJ13) -> 4455.78 | BN13: =SUMIF($C$5:$BJ$5,BN$5,$C13:$BJ13) -> 4589.4534 | BO13: =SUMIF($C$5:$BJ$5,BO$5,$C13:$BJ13) -> 4727.137
A14: Insurance | C14: =Assumptions!$C$84*C9 -> 300 | D14: =Assumptions!$C$84*D9 -> 300 | E14: =Assumptions!$C$84*E9 -> 300 | F14: =Assumptions!$C$84*F9 -> 300 | G14: =Assumptions!$C$84*G9 -> 300 | H14: =Assumptions!$C$84*H9 -> 300 | I14: =Assumptions!$C$84*I9 -> 300 | J14: =Assumptions!$C$84*J9 -> 300 | ... BJ14: =Assumptions!$C$84*BJ9 -> 337.65264 | BK14: =SUMIF($C$5:$BJ$5,BK$5,$C14:$BJ14) -> 3600 | BL14: =SUMIF($C$5:$BJ$5,BL$5,$C14:$BJ14) -> 3708 | BM14: =SUMIF($C$5:$BJ$5,BM$5,$C14:$BJ14) -> 3819.24 | BN14: =SUMIF($C$5:$BJ$5,BN$5,$C14:$BJ14) -> 3933.8172 | BO14: =SUMIF($C$5:$BJ$5,BO$5,$C14:$BJ14) -> 4051.8317
